{"text_format":"1","workbook":"xlsx","n_sheets":3,"sheets":["Eingabe","Punkte-Note","Punkteeingabe"],"not_rendered":{"charts":1,"images":3,"macros":1,"external_links":0,"defined_names":3,"comments":0,"pivot_tables":0},"unopened":[],"bounds":{"document_bytes":16777216,"sheet_cells":100000,"rows_first":2000,"rows_last":500,"rows_between":2000,"halvings":0,"cell_chars":16384,"cell_head_chars":4096},"cells_cut":0,"cells_raw":0,"read":"whole","date_system":"1900"}

{"sheet":"Eingabe","index":0,"n_rows":206,"n_cols":21,"rows_kept":206,"cut":false,"hidden":false,"merged":[]}
["Gesamtpunktzahl",23,null,null,null,null,null,null,null,null,"Punkt-Note",null,null,null,"Punkte","Note(pkte)",null,null,"linear (wenig 1 und 6)","mehr 1","mehr 1 und 6"]
["Note:","3/4","bei",{"$f":"B1/2","v":11.5},"Punkten (halbe Punktzahl)",null,null,null,null,null,{"$f":"VLOOKUP(B2,A4:B24,2,FALSE)","v":"10"},null,null,null,{"$f":"Max","v":23},{"$f":"ROUND($K$13*(O2*O2)+$K$12*O2+20,0)","v":0},{"$f":"INDIRECT(ADDRESS(P2+4,1,1,1))","v":"1"},{"$f":"O2","v":23},{"$f":"ROUND($K$13*(R2*R2)+$K$12*R2+20,0)","v":0},{"$f":"ROUND($K$13*(S2*S2)+$K$12*S2+19.5,0)","v":20},{"$f":"ROUND($K$13*(T2*T2)+$K$12*T2+19.5+(Max-T2-1)/Max,0)","v":2}]
["NOTE",null,null,null,null,null,null,null,null,null,null,null,null,null,{"$f":"O2-1","v":22},{"$f":"ROUND($K$13*(O3*O3)+$K$12*O3+19.5+(Max-O3-1)/Max,0)","v":0},{"$f":"INDIRECT(ADDRESS(P3+4,1,1,1))","v":"1"},{"$f":"O3","v":22}]
["1","0",{"$f":"VLOOKUP(A4,$Q$2:$R$206,2,FALSE)","v":23},{"$f":"IF(E4=\"\",\"\",\"bis\")","v":"bis"},{"$f":"IF(C5+1<C4,C5+1,\"\")","v":22},{"$f":"A4","v":"1"},null,null,null,null,null,null,null,null,{"$f":"O3-1","v":21},1,"1-",21]
["1-","1",21,{"$f":"IF(E5=\"\",\"\",\"bis\")","v":""},"",{"$f":"A5","v":"1-"},null,null,null,null,null,null,null,null,20,2,"1/2",20]
["1/2","2",20,"","","1/2",null,null,null,null,null,null,null,null,19,3,"2+",19]
["2+","3",19,"","","2+",null,null,null,null,null,null,null,null,18,4,"2",18]
["2","4",18,"","","2",null,null,null,null,null,null,null,null,17,5,"2-",17]
["2-","5",17,"","","2-",null,null,null,"Punkte",0,{"$f":"D2","v":11.5},{"$f":"B1","v":23},null,16,6,"2/3",16]
["2/3","6",16,"","","2/3",null,null,null,"\"Note\"",20,16,0,null,15,7,"3+",15]
["3+","7",15,"","","3+",null,null,null,"NotenPkt=a x^2+ b x +20",null,"(x sind die erreichten Punkte)",null,null,14,8,"3",14]
["3","8",14,"","","3",null,null,null,"b",{"$f":"(K2-15)/(Max/4)","v":-0.86956521739130432},null,null,null,13,9,"3-",13]
["3-","9",13,"","","3-",null,null,null,"a",{"$f":"(-20-K12*Max)/(Max*Max)","v":0},null,null,null,12,10,"3/4",12]
["3/4","10",12,"bis",11,"3/4",null,null,null,null,null,null,null,null,11,10,"3/4",11]
["4+","11",10,"","","4+",null,null,null,null,null,null,null,null,10,11,"4+",10]
["4","12",9,"","","4",null,null,null,null,null,null,null,null,9,12,"4",9,"Resultat:"]
["4-","13",8,"","","4-",null,null,null,null,null,null,null,null,8,13,"4-",8]
["4/5","14",7,"",{"$f":"IF(C19+1<C18,C19+1,\"\")","v":""},"4/5",null,null,null,null,null,null,null,null,7,14,"4/5",7]
["5+","15",6,"","","5+","Schnitt:",{"$f":"Punkteeingabe!F1","v":2.7857142857142856},null,null,null,null,null,null,6,15,"5+",6]
["5","16",5,"",{"$f":"IF(C21+1<C20,C21+1,\"\")","v":""},"5",null,null,null,null,null,null,null,null,5,16,"5",5]
["5-","17",4,"","","5-","Erklärung",null,null,null,null,null,null,null,4,17,"5-",4]
["5/6","18",3,"","","5/6","Links gleiche Zahl wie RECHTS eintragen ==> Doppelblock rutscht hoch",null,null,null,null,null,null,null,3,18,"5/6",3]
["6+","19",2,"","","6+","\"Rechte Zahl\" unter Doppelblock schreiben ==> Doppelblock rutscht runter",null,null,null,null,null,null,null,2,19,"6+",2]
["6","20",1,"bis",0,"6",null,null,null,null,null,null,null,null,1,20,"6",1]
[null,null,"nur hier ändern",null,null,null,null,null,null,null,null,null,null,null,0,20,"6",0]
[{"$f":"A4","v":"1"},{"$f":"C4","v":23},null,null,null,null,null,null,null,null,null,null,null,null,-1,21,0,-1]
[{"$f":"A5","v":"1-"},{"$f":"C5","v":21},null,null,null,null,null,null,null,null,null,null,null,null,-2,22,"1",-2]
["1/2",20,null,null,null,null,null,null,null,null,null,null,null,null,-3,23,"1-",-3]
["2+",19,null,null,null,null,null,null,null,null,null,null,null,null,-4,24,"1/2",-4]
["2",18,null,null,null,null,null,null,null,null,null,null,null,null,-5,25,"2+",-5]
["2-",17,null,null,null,null,null,null,null,null,null,null,null,null,-6,26,"2",-6]
["2/3",16,null,null,null,null,null,null,null,null,null,null,null,null,-7,27,"2-",-7]
["3+",15,null,null,null,null,null,null,null,null,null,null,null,null,-8,28,"2/3",-8]
["3",14,null,null,null,null,null,null,null,null,null,null,null,null,-9,29,"3+",-9]
["3-",13,null,null,null,null,null,null,null,null,null,null,null,null,-10,30,"3",-10]
["3/4",12,null,null,null,null,null,null,null,null,null,null,null,null,-11,31,"3-",-11]
["4+",10,null,null,null,null,null,null,null,null,null,null,null,null,-12,31,"3-",-12]
["4",9,null,null,null,null,null,null,null,null,null,null,null,null,-13,32,"3/4",-13]
["4-",8,null,null,null,null,null,null,null,null,null,null,null,null,-14,33,"4+",-14]
["4/5",7,null,null,null,null,null,null,null,null,null,null,null,null,-15,34,"4",-15]
["5+",6,null,null,null,null,null,null,null,null,null,null,null,null,-16,35,"4-",-16]
["5",5,null,null,null,null,null,null,null,null,null,null,null,null,-17,36,"4/5",-17]
["5-",4,null,null,null,null,null,null,null,null,null,null,null,null,-18,37,"5+",-18]
["5/6",3,null,null,null,null,null,null,null,null,null,null,null,null,-19,38,"5",-19]
["6+",2,null,null,null,null,null,null,null,null,null,null,null,null,-20,39,"5-",-20]
["6",1,null,null,null,null,null,null,null,null,null,null,null,null,-21,40,"5/6",-21]
[null,null,null,null,null,null,null,null,null,null,null,null,null,null,-22,41,"6+",-22]
[null,null,null,null,null,null,null,null,null,null,null,null,null,null,-23,41,"6+",-23]
[null,null,null,null,null,null,null,null,null,null,null,null,null,null,-24,42,"6",-24]
[null,null,null,null,null,null,null,null,null,null,null,null,null,null,-25,43,0,-25]
[null,null,null,null,null,null,null,null,null,null,null,null,null,null,-26,44,0,-26]
[null,null,null,null,null,null,null,null,null,null,null,null,null,null,-27,45,0,-27]
[null,null,null,null,null,null,null,null,null,null,null,null,null,null,-28,46,0,-28]
[null,null,null,null,null,null,null,null,null,null,null,null,null,null,-29,47,0,-29]
[null,null,null,null,null,null,null,null,null,null,null,null,null,null,-30,48,0,-30]
[null,null,null,null,null,null,null,null,null,null,null,null,null,null,-31,49,0,-31]
[null,null,null,null,null,null,null,null,null,null,null,null,null,null,-32,50,0,-32]
[null,null,null,null,null,null,null,null,null,null,null,null,null,null,-33,51,0,-33]
[null,null,null,null,null,null,null,null,null,null,null,null,null,null,-34,52,0,-34]
[null,null,null,null,null,null,null,null,null,null,null,null,null,null,-35,52,0,-35]
[null,null,null,null,null,null,null,null,null,null,null,null,null,null,-36,53,0,-36]
[null,null,null,null,null,null,null,null,null,null,null,null,null,null,-37,54,0,-37]
[null,null,null,null,null,null,null,null,null,null,null,null,null,null,-38,55,0,-38]
[null,null,null,null,null,null,null,null,null,null,null,null,null,null,-39,56,0,-39]
[null,null,null,null,null,null,null,null,null,null,null,null,null,null,-40,57,0,-40]
[null,null,null,null,null,null,null,null,null,null,null,null,null,null,-41,58,0,-41]
[null,null,null,null,null,null,null,null,null,null,null,null,null,null,-42,{"$f":"ROUND($K$13*(O67*O67)+$K$12*O67+19.5+(Max-O67-1)/Max,0)","v":59},{"$f":"INDIRECT(ADDRESS(P67+4,1,1,1))","v":0},{"$f":"O67","v":-42}]
[null,null,null,null,null,null,null,null,null,null,null,null,null,null,{"$f":"O67-1","v":-43},60,0,-43]
[null,null,null,null,null,null,null,null,null,null,null,null,null,null,-44,61,0,-44]
[null,null,null,null,null,null,null,null,null,null,null,null,null,null,-45,62,0,-45]
[null,null,null,null,null,null,null,null,null,null,null,null,null,null,-46,62,0,-46]
[null,null,null,null,null,null,null,null,null,null,null,null,null,null,-47,63,0,-47]
[null,null,null,null,null,null,null,null,null,null,null,null,null,null,-48,64,0,-48]
[null,null,null,null,null,null,null,null,null,null,null,null,null,null,-49,65,0,-49]
[null,null,null,null,null,null,null,null,null,null,null,null,null,null,-50,66,0,-50]
[null,null,null,null,null,null,null,null,null,null,null,null,null,null,-51,67,0,-51]
[null,null,null,null,null,null,null,null,null,null,null,null,null,null,-52,68,0,-52]
[null,null,null,null,null,null,null,null,null,null,null,null,null,null,-53,69,0,-53]
[null,null,null,null,null,null,null,null,null,null,null,null,null,null,-54,70,0,-54]
[null,null,null,null,null,null,null,null,null,null,null,null,null,null,-55,71,0,-55]
[null,null,null,null,null,null,null,null,null,null,null,null,null,null,-56,72,0,-56]
[null,null,null,null,null,null,null,null,null,null,null,null,null,null,-57,73,0,-57]
[null,null,null,null,null,null,null,null,null,null,null,null,null,null,-58,73,0,-58]
[null,null,null,null,null,null,null,null,null,null,null,null,null,null,-59,74,0,-59]
[null,null,null,null,null,null,null,null,null,null,null,null,null,null,-60,75,0,-60]
[null,null,null,null,null,null,null,null,null,null,null,null,null,null,-61,76,0,-61]
[null,null,null,null,null,null,null,null,null,null,null,null,null,null,-62,77,0,-62]
[null,null,null,null,null,null,null,null,null,null,null,null,null,null,-63,78,0,-63]
[null,null,null,null,null,null,null,null,null,null,null,null,null,null,-64,79,0,-64]
[null,null,null,null,null,null,null,null,null,null,null,null,null,null,-65,80,0,-65]
[null,null,null,null,null,null,null,null,null,null,null,null,null,null,-66,81,0,-66]
[null,null,null,null,null,null,null,null,null,null,null,null,null,null,-67,82,0,-67]
[null,null,null,null,null,null,null,null,null,null,null,null,null,null,-68,83,0,-68]
[null,null,null,null,null,null,null,null,null,null,null,null,null,null,-69,83,0,-69]
[null,null,null,null,null,null,null,null,null,null,null,null,null,null,-70,84,0,-70]
[null,null,null,null,null,null,null,null,null,null,null,null,null,null,-71,85,0,-71]
[null,null,null,null,null,null,null,null,null,null,null,null,null,null,-72,86,0,-72]
[null,null,null,null,null,null,null,null,null,null,null,null,null,null,-73,87,0,-73]
[null,null,null,null,null,null,null,null,null,null,null,null,null,null,-74,88,0,-74]
[null,null,null,null,null,null,null,null,null,null,null,null,null,null,-75,89,0,-75]
[null,null,null,null,null,null,null,null,null,null,null,null,null,null,-76,90,0,-76]
[null,null,null,null,null,null,null,null,null,null,null,null,null,null,-77,91,0,-77]
[null,null,null,null,null,null,null,null,null,null,null,null,null,null,-78,92,0,-78]
[null,null,null,null,null,null,null,null,null,null,null,null,null,null,-79,93,0,-79]
[null,null,null,null,null,null,null,null,null,null,null,null,null,null,-80,94,0,-80]
[null,null,null,null,null,null,null,null,null,null,null,null,null,null,-81,94,0,-81]
[null,null,null,null,null,null,null,null,null,null,null,null,null,null,-82,95,0,-82]
[null,null,null,null,null,null,null,null,null,null,null,null,null,null,-83,96,0,-83]
[null,null,null,null,null,null,null,null,null,null,null,null,null,null,-84,97,0,-84]
[null,null,null,null,null,null,null,null,null,null,null,null,null,null,-85,98,0,-85]
[null,null,null,null,null,null,null,null,null,null,null,null,null,null,-86,99,0,-86]
[null,null,null,null,null,null,null,null,null,null,null,null,null,null,-87,100,0,-87]
[null,null,null,null,null,null,null,null,null,null,null,null,null,null,-88,101,0,-88]
[null,null,null,null,null,null,null,null,null,null,null,null,null,null,-89,102,0,-89]
[null,null,null,null,null,null,null,null,null,null,null,null,null,null,-90,103,0,-90]
[null,null,null,null,null,null,null,null,null,null,null,null,null,null,-91,104,0,-91]
[null,null,null,null,null,null,null,null,null,null,null,null,null,null,-92,104,0,-92]
[null,null,null,null,null,null,null,null,null,null,null,null,null,null,-93,105,0,-93]
[null,null,null,null,null,null,null,null,null,null,null,null,null,null,-94,106,0,-94]
[null,null,null,null,null,null,null,null,null,null,null,null,null,null,-95,107,0,-95]
[null,null,null,null,null,null,null,null,null,null,null,null,null,null,-96,108,0,-96]
[null,null,null,null,null,null,null,null,null,null,null,null,null,null,-97,109,0,-97]
[null,null,null,null,null,null,null,null,null,null,null,null,null,null,-98,110,0,-98]
[null,null,null,null,null,null,null,null,null,null,null,null,null,null,-99,111,0,-99]
[null,null,null,null,null,null,null,null,null,null,null,null,null,null,-100,112,0,-100]
[null,null,null,null,null,null,null,null,null,null,null,null,null,null,-101,113,0,-101]
[null,null,null,null,null,null,null,null,null,null,null,null,null,null,-102,114,0,-102]
[null,null,null,null,null,null,null,null,null,null,null,null,null,null,-103,115,0,-103]
[null,null,null,null,null,null,null,null,null,null,null,null,null,null,-104,115,0,-104]
[null,null,null,null,null,null,null,null,null,null,null,null,null,null,-105,116,0,-105]
[null,null,null,null,null,null,null,null,null,null,null,null,null,null,-106,{"$f":"ROUND($K$13*(O131*O131)+$K$12*O131+19.5+(Max-O131-1)/Max,0)","v":117},{"$f":"INDIRECT(ADDRESS(P131+4,1,1,1))","v":0},{"$f":"O131","v":-106}]
[null,null,null,null,null,null,null,null,null,null,null,null,null,null,{"$f":"O131-1","v":-107},118,0,-107]
[null,null,null,null,null,null,null,null,null,null,null,null,null,null,-108,119,0,-108]
[null,null,null,null,null,null,null,null,null,null,null,null,null,null,-109,120,0,-109]
[null,null,null,null,null,null,null,null,null,null,null,null,null,null,-110,121,0,-110]
[null,null,null,null,null,null,null,null,null,null,null,null,null,null,-111,122,0,-111]
[null,null,null,null,null,null,null,null,null,null,null,null,null,null,-112,123,0,-112]
[null,null,null,null,null,null,null,null,null,null,null,null,null,null,-113,124,0,-113]
[null,null,null,null,null,null,null,null,null,null,null,null,null,null,-114,125,0,-114]
[null,null,null,null,null,null,null,null,null,null,null,null,null,null,-115,125,0,-115]
[null,null,null,null,null,null,null,null,null,null,null,null,null,null,-116,126,0,-116]
[null,null,null,null,null,null,null,null,null,null,null,null,null,null,-117,127,0,-117]
[null,null,null,null,null,null,null,null,null,null,null,null,null,null,-118,128,0,-118]
[null,null,null,null,null,null,null,null,null,null,null,null,null,null,-119,129,0,-119]
[null,null,null,null,null,null,null,null,null,null,null,null,null,null,-120,130,0,-120]
[null,null,null,null,null,null,null,null,null,null,null,null,null,null,-121,131,0,-121]
[null,null,null,null,null,null,null,null,null,null,null,null,null,null,-122,132,0,-122]
[null,null,null,null,null,null,null,null,null,null,null,null,null,null,-123,133,0,-123]
[null,null,null,null,null,null,null,null,null,null,null,null,null,null,-124,134,0,-124]
[null,null,null,null,null,null,null,null,null,null,null,null,null,null,-125,135,0,-125]
[null,null,null,null,null,null,null,null,null,null,null,null,null,null,-126,136,0,-126]
[null,null,null,null,null,null,null,null,null,null,null,null,null,null,-127,136,0,-127]
[null,null,null,null,null,null,null,null,null,null,null,null,null,null,-128,137,0,-128]
[null,null,null,null,null,null,null,null,null,null,null,null,null,null,-129,138,0,-129]
[null,null,null,null,null,null,null,null,null,null,null,null,null,null,-130,139,0,-130]
[null,null,null,null,null,null,null,null,null,null,null,null,null,null,-131,140,0,-131]
[null,null,null,null,null,null,null,null,null,null,null,null,null,null,-132,141,0,-132]
[null,null,null,null,null,null,null,null,null,null,null,null,null,null,-133,142,0,-133]
[null,null,null,null,null,null,null,null,null,null,null,null,null,null,-134,143,0,-134]
[null,null,null,null,null,null,null,null,null,null,null,null,null,null,-135,144,0,-135]
[null,null,null,null,null,null,null,null,null,null,null,null,null,null,-136,145,0,-136]
[null,null,null,null,null,null,null,null,null,null,null,null,null,null,-137,146,0,-137]
[null,null,null,null,null,null,null,null,null,null,null,null,null,null,-138,146,0,-138]
[null,null,null,null,null,null,null,null,null,null,null,null,null,null,-139,147,0,-139]
[null,null,null,null,null,null,null,null,null,null,null,null,null,null,-140,148,0,-140]
[null,null,null,null,null,null,null,null,null,null,null,null,null,null,-141,149,0,-141]
[null,null,null,null,null,null,null,null,null,null,null,null,null,null,-142,150,0,-142]
[null,null,null,null,null,null,null,null,null,null,null,null,null,null,-143,151,0,-143]
[null,null,null,null,null,null,null,null,null,null,null,null,null,null,-144,152,0,-144]
[null,null,null,null,null,null,null,null,null,null,null,null,null,null,-145,153,0,-145]
[null,null,null,null,null,null,null,null,null,null,null,null,null,null,-146,154,0,-146]
[null,null,null,null,null,null,null,null,null,null,null,null,null,null,-147,155,0,-147]
[null,null,null,null,null,null,null,null,null,null,null,null,null,null,-148,156,0,-148]
[null,null,null,null,null,null,null,null,null,null,null,null,null,null,-149,157,0,-149]
[null,null,null,null,null,null,null,null,null,null,null,null,null,null,-150,157,0,-150]
[null,null,null,null,null,null,null,null,null,null,null,null,null,null,-151,158,0,-151]
[null,null,null,null,null,null,null,null,null,null,null,null,null,null,-152,159,0,-152]
[null,null,null,null,null,null,null,null,null,null,null,null,null,null,-153,160,0,-153]
[null,null,null,null,null,null,null,null,null,null,null,null,null,null,-154,161,0,-154]
[null,null,null,null,null,null,null,null,null,null,null,null,null,null,-155,162,0,-155]
[null,null,null,null,null,null,null,null,null,null,null,null,null,null,-156,163,0,-156]
[null,null,null,null,null,null,null,null,null,null,null,null,null,null,-157,164,0,-157]
[null,null,null,null,null,null,null,null,null,null,null,null,null,null,-158,165,0,-158]
[null,null,null,null,null,null,null,null,null,null,null,null,null,null,-159,166,0,-159]
[null,null,null,null,null,null,null,null,null,null,null,null,null,null,-160,167,0,-160]
[null,null,null,null,null,null,null,null,null,null,null,null,null,null,-161,167,0,-161]
[null,null,null,null,null,null,null,null,null,null,null,null,null,null,-162,168,0,-162]
[null,null,null,null,null,null,null,null,null,null,null,null,null,null,-163,169,0,-163]
[null,null,null,null,null,null,null,null,null,null,null,null,null,null,-164,170,0,-164]
[null,null,null,null,null,null,null,null,null,null,null,null,null,null,-165,171,0,-165]
[null,null,null,null,null,null,null,null,null,null,null,null,null,null,-166,172,0,-166]
[null,null,null,null,null,null,null,null,null,null,null,null,null,null,-167,173,0,-167]
[null,null,null,null,null,null,null,null,null,null,null,null,null,null,-168,174,0,-168]
[null,null,null,null,null,null,null,null,null,null,null,null,null,null,-169,175,0,-169]
[null,null,null,null,null,null,null,null,null,null,null,null,null,null,-170,{"$f":"ROUND($K$13*(O195*O195)+$K$12*O195+19.5+(Max-O195-1)/Max,0)","v":176},{"$f":"INDIRECT(ADDRESS(P195+4,1,1,1))","v":0},{"$f":"O195","v":-170}]
[null,null,null,null,null,null,null,null,null,null,null,null,null,null,{"$f":"O195-1","v":-171},177,0,-171]
[null,null,null,null,null,null,null,null,null,null,null,null,null,null,-172,178,0,-172]
[null,null,null,null,null,null,null,null,null,null,null,null,null,null,-173,178,0,-173]
[null,null,null,null,null,null,null,null,null,null,null,null,null,null,-174,179,0,-174]
[null,null,null,null,null,null,null,null,null,null,null,null,null,null,-175,180,0,-175]
[null,null,null,null,null,null,null,null,null,null,null,null,null,null,-176,181,0,-176]
[null,null,null,null,null,null,null,null,null,null,null,null,null,null,-177,182,0,-177]
[null,null,null,null,null,null,null,null,null,null,null,null,null,null,-178,183,0,-178]
[null,null,null,null,null,null,null,null,null,null,null,null,null,null,-179,184,0,-179]
[null,null,null,null,null,null,null,null,null,null,null,null,null,null,-180,185,0,-180]
[null,null,null,null,null,null,null,null,null,null,null,null,null,null,-181,186,0,-181]

{"sheet":"Punkte-Note","index":1,"n_rows":206,"n_cols":2,"rows_kept":206,"cut":false,"hidden":false,"merged":[]}
["Punkte","Note"]
[{"$f":"IF(Eingabe!O2>-1,Eingabe!O2,\"\")","v":23},{"$f":"IF(A2=\"\",\"\",IF(IFERROR(VLOOKUP(A2,Eingabe!$C$4:$F$24,4,FALSE),100)=100,B1,IFERROR(VLOOKUP(A2,Eingabe!$C$4:$F$24,4,FALSE),100)))","v":"1"}]
[{"$f":"IF(Eingabe!O3>-1,Eingabe!O3,\"\")","v":22},{"$f":"IF(A3=\"\",\"\",IF(IFERROR(VLOOKUP(A3,Eingabe!$C$4:$F$24,4,FALSE),100)=100,B2,IFERROR(VLOOKUP(A3,Eingabe!$C$4:$F$24,4,FALSE),100)))","v":"1"}]
[{"$f":"IF(Eingabe!O4>-1,Eingabe!O4,\"\")","v":21},{"$f":"IF(A4=\"\",\"\",IF(IFERROR(VLOOKUP(A4,Eingabe!$C$4:$F$24,4,FALSE),100)=100,B3,IFERROR(VLOOKUP(A4,Eingabe!$C$4:$F$24,4,FALSE),100)))","v":"1-"}]
[{"$f":"IF(Eingabe!O5>-1,Eingabe!O5,\"\")","v":20},{"$f":"IF(A5=\"\",\"\",IF(IFERROR(VLOOKUP(A5,Eingabe!$C$4:$F$24,4,FALSE),100)=100,B4,IFERROR(VLOOKUP(A5,Eingabe!$C$4:$F$24,4,FALSE),100)))","v":"1/2"}]
[{"$f":"IF(Eingabe!O6>-1,Eingabe!O6,\"\")","v":19},{"$f":"IF(A6=\"\",\"\",IF(IFERROR(VLOOKUP(A6,Eingabe!$C$4:$F$24,4,FALSE),100)=100,B5,IFERROR(VLOOKUP(A6,Eingabe!$C$4:$F$24,4,FALSE),100)))","v":"2+"}]
[{"$f":"IF(Eingabe!O7>-1,Eingabe!O7,\"\")","v":18},{"$f":"IF(A7=\"\",\"\",IF(IFERROR(VLOOKUP(A7,Eingabe!$C$4:$F$24,4,FALSE),100)=100,B6,IFERROR(VLOOKUP(A7,Eingabe!$C$4:$F$24,4,FALSE),100)))","v":"2"}]
[{"$f":"IF(Eingabe!O8>-1,Eingabe!O8,\"\")","v":17},{"$f":"IF(A8=\"\",\"\",IF(IFERROR(VLOOKUP(A8,Eingabe!$C$4:$F$24,4,FALSE),100)=100,B7,IFERROR(VLOOKUP(A8,Eingabe!$C$4:$F$24,4,FALSE),100)))","v":"2-"}]
[{"$f":"IF(Eingabe!O9>-1,Eingabe!O9,\"\")","v":16},{"$f":"IF(A9=\"\",\"\",IF(IFERROR(VLOOKUP(A9,Eingabe!$C$4:$F$24,4,FALSE),100)=100,B8,IFERROR(VLOOKUP(A9,Eingabe!$C$4:$F$24,4,FALSE),100)))","v":"2/3"}]
[{"$f":"IF(Eingabe!O10>-1,Eingabe!O10,\"\")","v":15},{"$f":"IF(A10=\"\",\"\",IF(IFERROR(VLOOKUP(A10,Eingabe!$C$4:$F$24,4,FALSE),100)=100,B9,IFERROR(VLOOKUP(A10,Eingabe!$C$4:$F$24,4,FALSE),100)))","v":"3+"}]
[{"$f":"IF(Eingabe!O11>-1,Eingabe!O11,\"\")","v":14},{"$f":"IF(A11=\"\",\"\",IF(IFERROR(VLOOKUP(A11,Eingabe!$C$4:$F$24,4,FALSE),100)=100,B10,IFERROR(VLOOKUP(A11,Eingabe!$C$4:$F$24,4,FALSE),100)))","v":"3"}]
[{"$f":"IF(Eingabe!O12>-1,Eingabe!O12,\"\")","v":13},{"$f":"IF(A12=\"\",\"\",IF(IFERROR(VLOOKUP(A12,Eingabe!$C$4:$F$24,4,FALSE),100)=100,B11,IFERROR(VLOOKUP(A12,Eingabe!$C$4:$F$24,4,FALSE),100)))","v":"3-"}]
[{"$f":"IF(Eingabe!O13>-1,Eingabe!O13,\"\")","v":12},{"$f":"IF(A13=\"\",\"\",IF(IFERROR(VLOOKUP(A13,Eingabe!$C$4:$F$24,4,FALSE),100)=100,B12,IFERROR(VLOOKUP(A13,Eingabe!$C$4:$F$24,4,FALSE),100)))","v":"3/4"}]
[{"$f":"IF(Eingabe!O14>-1,Eingabe!O14,\"\")","v":11},{"$f":"IF(A14=\"\",\"\",IF(IFERROR(VLOOKUP(A14,Eingabe!$C$4:$F$24,4,FALSE),100)=100,B13,IFERROR(VLOOKUP(A14,Eingabe!$C$4:$F$24,4,FALSE),100)))","v":"3/4"}]
[{"$f":"IF(Eingabe!O15>-1,Eingabe!O15,\"\")","v":10},{"$f":"IF(A15=\"\",\"\",IF(IFERROR(VLOOKUP(A15,Eingabe!$C$4:$F$24,4,FALSE),100)=100,B14,IFERROR(VLOOKUP(A15,Eingabe!$C$4:$F$24,4,FALSE),100)))","v":"4+"}]
[{"$f":"IF(Eingabe!O16>-1,Eingabe!O16,\"\")","v":9},{"$f":"IF(A16=\"\",\"\",IF(IFERROR(VLOOKUP(A16,Eingabe!$C$4:$F$24,4,FALSE),100)=100,B15,IFERROR(VLOOKUP(A16,Eingabe!$C$4:$F$24,4,FALSE),100)))","v":"4"}]
[{"$f":"IF(Eingabe!O17>-1,Eingabe!O17,\"\")","v":8},{"$f":"IF(A17=\"\",\"\",IF(IFERROR(VLOOKUP(A17,Eingabe!$C$4:$F$24,4,FALSE),100)=100,B16,IFERROR(VLOOKUP(A17,Eingabe!$C$4:$F$24,4,FALSE),100)))","v":"4-"}]
[{"$f":"IF(Eingabe!O18>-1,Eingabe!O18,\"\")","v":7},{"$f":"IF(A18=\"\",\"\",IF(IFERROR(VLOOKUP(A18,Eingabe!$C$4:$F$24,4,FALSE),100)=100,B17,IFERROR(VLOOKUP(A18,Eingabe!$C$4:$F$24,4,FALSE),100)))","v":"4/5"}]
[{"$f":"IF(Eingabe!O19>-1,Eingabe!O19,\"\")","v":6},{"$f":"IF(A19=\"\",\"\",IF(IFERROR(VLOOKUP(A19,Eingabe!$C$4:$F$24,4,FALSE),100)=100,B18,IFERROR(VLOOKUP(A19,Eingabe!$C$4:$F$24,4,FALSE),100)))","v":"5+"}]
[{"$f":"IF(Eingabe!O20>-1,Eingabe!O20,\"\")","v":5},{"$f":"IF(A20=\"\",\"\",IF(IFERROR(VLOOKUP(A20,Eingabe!$C$4:$F$24,4,FALSE),100)=100,B19,IFERROR(VLOOKUP(A20,Eingabe!$C$4:$F$24,4,FALSE),100)))","v":"5"}]
[{"$f":"IF(Eingabe!O21>-1,Eingabe!O21,\"\")","v":4},{"$f":"IF(A21=\"\",\"\",IF(IFERROR(VLOOKUP(A21,Eingabe!$C$4:$F$24,4,FALSE),100)=100,B20,IFERROR(VLOOKUP(A21,Eingabe!$C$4:$F$24,4,FALSE),100)))","v":"5-"}]
[{"$f":"IF(Eingabe!O22>-1,Eingabe!O22,\"\")","v":3},{"$f":"IF(A22=\"\",\"\",IF(IFERROR(VLOOKUP(A22,Eingabe!$C$4:$F$24,4,FALSE),100)=100,B21,IFERROR(VLOOKUP(A22,Eingabe!$C$4:$F$24,4,FALSE),100)))","v":"5/6"}]
[{"$f":"IF(Eingabe!O23>-1,Eingabe!O23,\"\")","v":2},{"$f":"IF(A23=\"\",\"\",IF(IFERROR(VLOOKUP(A23,Eingabe!$C$4:$F$24,4,FALSE),100)=100,B22,IFERROR(VLOOKUP(A23,Eingabe!$C$4:$F$24,4,FALSE),100)))","v":"6+"}]
[{"$f":"IF(Eingabe!O24>-1,Eingabe!O24,\"\")","v":1},{"$f":"IF(A24=\"\",\"\",IF(IFERROR(VLOOKUP(A24,Eingabe!$C$4:$F$24,4,FALSE),100)=100,B23,IFERROR(VLOOKUP(A24,Eingabe!$C$4:$F$24,4,FALSE),100)))","v":"6"}]
[{"$f":"IF(Eingabe!O25>-1,Eingabe!O25,\"\")","v":0},{"$f":"IF(A25=\"\",\"\",IF(IFERROR(VLOOKUP(A25,Eingabe!$C$4:$F$24,4,FALSE),100)=100,B24,IFERROR(VLOOKUP(A25,Eingabe!$C$4:$F$24,4,FALSE),100)))","v":"6"}]
[{"$f":"IF(Eingabe!O26>-1,Eingabe!O26,\"\")","v":""},{"$f":"IF(A26=\"\",\"\",IF(IFERROR(VLOOKUP(A26,Eingabe!$C$4:$F$24,4,FALSE),100)=100,B25,IFERROR(VLOOKUP(A26,Eingabe!$C$4:$F$24,4,FALSE),100)))","v":""}]
[{"$f":"IF(Eingabe!O27>-1,Eingabe!O27,\"\")","v":""},{"$f":"IF(A27=\"\",\"\",IF(IFERROR(VLOOKUP(A27,Eingabe!$C$4:$F$24,4,FALSE),100)=100,B26,IFERROR(VLOOKUP(A27,Eingabe!$C$4:$F$24,4,FALSE),100)))","v":""}]
[{"$f":"IF(Eingabe!O28>-1,Eingabe!O28,\"\")","v":""},{"$f":"IF(A28=\"\",\"\",IF(IFERROR(VLOOKUP(A28,Eingabe!$C$4:$F$24,4,FALSE),100)=100,B27,IFERROR(VLOOKUP(A28,Eingabe!$C$4:$F$24,4,FALSE),100)))","v":""}]
[{"$f":"IF(Eingabe!O29>-1,Eingabe!O29,\"\")","v":""},{"$f":"IF(A29=\"\",\"\",IF(IFERROR(VLOOKUP(A29,Eingabe!$C$4:$F$24,4,FALSE),100)=100,B28,IFERROR(VLOOKUP(A29,Eingabe!$C$4:$F$24,4,FALSE),100)))","v":""}]
[{"$f":"IF(Eingabe!O30>-1,Eingabe!O30,\"\")","v":""},{"$f":"IF(A30=\"\",\"\",IF(IFERROR(VLOOKUP(A30,Eingabe!$C$4:$F$24,4,FALSE),100)=100,B29,IFERROR(VLOOKUP(A30,Eingabe!$C$4:$F$24,4,FALSE),100)))","v":""}]
[{"$f":"IF(Eingabe!O31>-1,Eingabe!O31,\"\")","v":""},{"$f":"IF(A31=\"\",\"\",IF(IFERROR(VLOOKUP(A31,Eingabe!$C$4:$F$24,4,FALSE),100)=100,B30,IFERROR(VLOOKUP(A31,Eingabe!$C$4:$F$24,4,FALSE),100)))","v":""}]
[{"$f":"IF(Eingabe!O32>-1,Eingabe!O32,\"\")","v":""},{"$f":"IF(A32=\"\",\"\",IF(IFERROR(VLOOKUP(A32,Eingabe!$C$4:$F$24,4,FALSE),100)=100,B31,IFERROR(VLOOKUP(A32,Eingabe!$C$4:$F$24,4,FALSE),100)))","v":""}]
[{"$f":"IF(Eingabe!O33>-1,Eingabe!O33,\"\")","v":""},{"$f":"IF(A33=\"\",\"\",IF(IFERROR(VLOOKUP(A33,Eingabe!$C$4:$F$24,4,FALSE),100)=100,B32,IFERROR(VLOOKUP(A33,Eingabe!$C$4:$F$24,4,FALSE),100)))","v":""}]
[{"$f":"IF(Eingabe!O34>-1,Eingabe!O34,\"\")","v":""},{"$f":"IF(A34=\"\",\"\",IF(IFERROR(VLOOKUP(A34,Eingabe!$C$4:$F$24,4,FALSE),100)=100,B33,IFERROR(VLOOKUP(A34,Eingabe!$C$4:$F$24,4,FALSE),100)))","v":""}]
[{"$f":"IF(Eingabe!O35>-1,Eingabe!O35,\"\")","v":""},{"$f":"IF(A35=\"\",\"\",IF(IFERROR(VLOOKUP(A35,Eingabe!$C$4:$F$24,4,FALSE),100)=100,B34,IFERROR(VLOOKUP(A35,Eingabe!$C$4:$F$24,4,FALSE),100)))","v":""}]
[{"$f":"IF(Eingabe!O36>-1,Eingabe!O36,\"\")","v":""},{"$f":"IF(A36=\"\",\"\",IF(IFERROR(VLOOKUP(A36,Eingabe!$C$4:$F$24,4,FALSE),100)=100,B35,IFERROR(VLOOKUP(A36,Eingabe!$C$4:$F$24,4,FALSE),100)))","v":""}]
[{"$f":"IF(Eingabe!O37>-1,Eingabe!O37,\"\")","v":""},{"$f":"IF(A37=\"\",\"\",IF(IFERROR(VLOOKUP(A37,Eingabe!$C$4:$F$24,4,FALSE),100)=100,B36,IFERROR(VLOOKUP(A37,Eingabe!$C$4:$F$24,4,FALSE),100)))","v":""}]
[{"$f":"IF(Eingabe!O38>-1,Eingabe!O38,\"\")","v":""},{"$f":"IF(A38=\"\",\"\",IF(IFERROR(VLOOKUP(A38,Eingabe!$C$4:$F$24,4,FALSE),100)=100,B37,IFERROR(VLOOKUP(A38,Eingabe!$C$4:$F$24,4,FALSE),100)))","v":""}]
[{"$f":"IF(Eingabe!O39>-1,Eingabe!O39,\"\")","v":""},{"$f":"IF(A39=\"\",\"\",IF(IFERROR(VLOOKUP(A39,Eingabe!$C$4:$F$24,4,FALSE),100)=100,B38,IFERROR(VLOOKUP(A39,Eingabe!$C$4:$F$24,4,FALSE),100)))","v":""}]
[{"$f":"IF(Eingabe!O40>-1,Eingabe!O40,\"\")","v":""},{"$f":"IF(A40=\"\",\"\",IF(IFERROR(VLOOKUP(A40,Eingabe!$C$4:$F$24,4,FALSE),100)=100,B39,IFERROR(VLOOKUP(A40,Eingabe!$C$4:$F$24,4,FALSE),100)))","v":""}]
[{"$f":"IF(Eingabe!O41>-1,Eingabe!O41,\"\")","v":""},{"$f":"IF(A41=\"\",\"\",IF(IFERROR(VLOOKUP(A41,Eingabe!$C$4:$F$24,4,FALSE),100)=100,B40,IFERROR(VLOOKUP(A41,Eingabe!$C$4:$F$24,4,FALSE),100)))","v":""}]
[{"$f":"IF(Eingabe!O42>-1,Eingabe!O42,\"\")","v":""},{"$f":"IF(A42=\"\",\"\",IF(IFERROR(VLOOKUP(A42,Eingabe!$C$4:$F$24,4,FALSE),100)=100,B41,IFERROR(VLOOKUP(A42,Eingabe!$C$4:$F$24,4,FALSE),100)))","v":""}]
[{"$f":"IF(Eingabe!O43>-1,Eingabe!O43,\"\")","v":""},{"$f":"IF(A43=\"\",\"\",IF(IFERROR(VLOOKUP(A43,Eingabe!$C$4:$F$24,4,FALSE),100)=100,B42,IFERROR(VLOOKUP(A43,Eingabe!$C$4:$F$24,4,FALSE),100)))","v":""}]
[{"$f":"IF(Eingabe!O44>-1,Eingabe!O44,\"\")","v":""},{"$f":"IF(A44=\"\",\"\",IF(IFERROR(VLOOKUP(A44,Eingabe!$C$4:$F$24,4,FALSE),100)=100,B43,IFERROR(VLOOKUP(A44,Eingabe!$C$4:$F$24,4,FALSE),100)))","v":""}]
[{"$f":"IF(Eingabe!O45>-1,Eingabe!O45,\"\")","v":""},{"$f":"IF(A45=\"\",\"\",IF(IFERROR(VLOOKUP(A45,Eingabe!$C$4:$F$24,4,FALSE),100)=100,B44,IFERROR(VLOOKUP(A45,Eingabe!$C$4:$F$24,4,FALSE),100)))","v":""}]
[{"$f":"IF(Eingabe!O46>-1,Eingabe!O46,\"\")","v":""},{"$f":"IF(A46=\"\",\"\",IF(IFERROR(VLOOKUP(A46,Eingabe!$C$4:$F$24,4,FALSE),100)=100,B45,IFERROR(VLOOKUP(A46,Eingabe!$C$4:$F$24,4,FALSE),100)))","v":""}]
[{"$f":"IF(Eingabe!O47>-1,Eingabe!O47,\"\")","v":""},{"$f":"IF(A47=\"\",\"\",IF(IFERROR(VLOOKUP(A47,Eingabe!$C$4:$F$24,4,FALSE),100)=100,B46,IFERROR(VLOOKUP(A47,Eingabe!$C$4:$F$24,4,FALSE),100)))","v":""}]
[{"$f":"IF(Eingabe!O48>-1,Eingabe!O48,\"\")","v":""},{"$f":"IF(A48=\"\",\"\",IF(IFERROR(VLOOKUP(A48,Eingabe!$C$4:$F$24,4,FALSE),100)=100,B47,IFERROR(VLOOKUP(A48,Eingabe!$C$4:$F$24,4,FALSE),100)))","v":""}]
[{"$f":"IF(Eingabe!O49>-1,Eingabe!O49,\"\")","v":""},{"$f":"IF(A49=\"\",\"\",IF(IFERROR(VLOOKUP(A49,Eingabe!$C$4:$F$24,4,FALSE),100)=100,B48,IFERROR(VLOOKUP(A49,Eingabe!$C$4:$F$24,4,FALSE),100)))","v":""}]
[{"$f":"IF(Eingabe!O50>-1,Eingabe!O50,\"\")","v":""},{"$f":"IF(A50=\"\",\"\",IF(IFERROR(VLOOKUP(A50,Eingabe!$C$4:$F$24,4,FALSE),100)=100,B49,IFERROR(VLOOKUP(A50,Eingabe!$C$4:$F$24,4,FALSE),100)))","v":""}]
[{"$f":"IF(Eingabe!O51>-1,Eingabe!O51,\"\")","v":""},{"$f":"IF(A51=\"\",\"\",IF(IFERROR(VLOOKUP(A51,Eingabe!$C$4:$F$24,4,FALSE),100)=100,B50,IFERROR(VLOOKUP(A51,Eingabe!$C$4:$F$24,4,FALSE),100)))","v":""}]
[{"$f":"IF(Eingabe!O52>-1,Eingabe!O52,\"\")","v":""},{"$f":"IF(A52=\"\",\"\",IF(IFERROR(VLOOKUP(A52,Eingabe!$C$4:$F$24,4,FALSE),100)=100,B51,IFERROR(VLOOKUP(A52,Eingabe!$C$4:$F$24,4,FALSE),100)))","v":""}]
[{"$f":"IF(Eingabe!O53>-1,Eingabe!O53,\"\")","v":""},{"$f":"IF(A53=\"\",\"\",IF(IFERROR(VLOOKUP(A53,Eingabe!$C$4:$F$24,4,FALSE),100)=100,B52,IFERROR(VLOOKUP(A53,Eingabe!$C$4:$F$24,4,FALSE),100)))","v":""}]
[{"$f":"IF(Eingabe!O54>-1,Eingabe!O54,\"\")","v":""},{"$f":"IF(A54=\"\",\"\",IF(IFERROR(VLOOKUP(A54,Eingabe!$C$4:$F$24,4,FALSE),100)=100,B53,IFERROR(VLOOKUP(A54,Eingabe!$C$4:$F$24,4,FALSE),100)))","v":""}]
[{"$f":"IF(Eingabe!O55>-1,Eingabe!O55,\"\")","v":""},{"$f":"IF(A55=\"\",\"\",IF(IFERROR(VLOOKUP(A55,Eingabe!$C$4:$F$24,4,FALSE),100)=100,B54,IFERROR(VLOOKUP(A55,Eingabe!$C$4:$F$24,4,FALSE),100)))","v":""}]
[{"$f":"IF(Eingabe!O56>-1,Eingabe!O56,\"\")","v":""},{"$f":"IF(A56=\"\",\"\",IF(IFERROR(VLOOKUP(A56,Eingabe!$C$4:$F$24,4,FALSE),100)=100,B55,IFERROR(VLOOKUP(A56,Eingabe!$C$4:$F$24,4,FALSE),100)))","v":""}]
[{"$f":"IF(Eingabe!O57>-1,Eingabe!O57,\"\")","v":""},{"$f":"IF(A57=\"\",\"\",IF(IFERROR(VLOOKUP(A57,Eingabe!$C$4:$F$24,4,FALSE),100)=100,B56,IFERROR(VLOOKUP(A57,Eingabe!$C$4:$F$24,4,FALSE),100)))","v":""}]
[{"$f":"IF(Eingabe!O58>-1,Eingabe!O58,\"\")","v":""},{"$f":"IF(A58=\"\",\"\",IF(IFERROR(VLOOKUP(A58,Eingabe!$C$4:$F$24,4,FALSE),100)=100,B57,IFERROR(VLOOKUP(A58,Eingabe!$C$4:$F$24,4,FALSE),100)))","v":""}]
[{"$f":"IF(Eingabe!O59>-1,Eingabe!O59,\"\")","v":""},{"$f":"IF(A59=\"\",\"\",IF(IFERROR(VLOOKUP(A59,Eingabe!$C$4:$F$24,4,FALSE),100)=100,B58,IFERROR(VLOOKUP(A59,Eingabe!$C$4:$F$24,4,FALSE),100)))","v":""}]
[{"$f":"IF(Eingabe!O60>-1,Eingabe!O60,\"\")","v":""},{"$f":"IF(A60=\"\",\"\",IF(IFERROR(VLOOKUP(A60,Eingabe!$C$4:$F$24,4,FALSE),100)=100,B59,IFERROR(VLOOKUP(A60,Eingabe!$C$4:$F$24,4,FALSE),100)))","v":""}]
[{"$f":"IF(Eingabe!O61>-1,Eingabe!O61,\"\")","v":""},{"$f":"IF(A61=\"\",\"\",IF(IFERROR(VLOOKUP(A61,Eingabe!$C$4:$F$24,4,FALSE),100)=100,B60,IFERROR(VLOOKUP(A61,Eingabe!$C$4:$F$24,4,FALSE),100)))","v":""}]
[{"$f":"IF(Eingabe!O62>-1,Eingabe!O62,\"\")","v":""},{"$f":"IF(A62=\"\",\"\",IF(IFERROR(VLOOKUP(A62,Eingabe!$C$4:$F$24,4,FALSE),100)=100,B61,IFERROR(VLOOKUP(A62,Eingabe!$C$4:$F$24,4,FALSE),100)))","v":""}]
[{"$f":"IF(Eingabe!O63>-1,Eingabe!O63,\"\")","v":""},{"$f":"IF(A63=\"\",\"\",IF(IFERROR(VLOOKUP(A63,Eingabe!$C$4:$F$24,4,FALSE),100)=100,B62,IFERROR(VLOOKUP(A63,Eingabe!$C$4:$F$24,4,FALSE),100)))","v":""}]
[{"$f":"IF(Eingabe!O64>-1,Eingabe!O64,\"\")","v":""},{"$f":"IF(A64=\"\",\"\",IF(IFERROR(VLOOKUP(A64,Eingabe!$C$4:$F$24,4,FALSE),100)=100,B63,IFERROR(VLOOKUP(A64,Eingabe!$C$4:$F$24,4,FALSE),100)))","v":""}]
[{"$f":"IF(Eingabe!O65>-1,Eingabe!O65,\"\")","v":""},{"$f":"IF(A65=\"\",\"\",IF(IFERROR(VLOOKUP(A65,Eingabe!$C$4:$F$24,4,FALSE),100)=100,B64,IFERROR(VLOOKUP(A65,Eingabe!$C$4:$F$24,4,FALSE),100)))","v":""}]
[{"$f":"IF(Eingabe!O66>-1,Eingabe!O66,\"\")","v":""},{"$f":"IF(A66=\"\",\"\",IF(IFERROR(VLOOKUP(A66,Eingabe!$C$4:$F$24,4,FALSE),100)=100,B65,IFERROR(VLOOKUP(A66,Eingabe!$C$4:$F$24,4,FALSE),100)))","v":""}]
[{"$f":"IF(Eingabe!O67>-1,Eingabe!O67,\"\")","v":""},{"$f":"IF(A67=\"\",\"\",IF(IFERROR(VLOOKUP(A67,Eingabe!$C$4:$F$24,4,FALSE),100)=100,B66,IFERROR(VLOOKUP(A67,Eingabe!$C$4:$F$24,4,FALSE),100)))","v":""}]
[{"$f":"IF(Eingabe!O68>-1,Eingabe!O68,\"\")","v":""},{"$f":"IF(A68=\"\",\"\",IF(IFERROR(VLOOKUP(A68,Eingabe!$C$4:$F$24,4,FALSE),100)=100,B67,IFERROR(VLOOKUP(A68,Eingabe!$C$4:$F$24,4,FALSE),100)))","v":""}]
[{"$f":"IF(Eingabe!O69>-1,Eingabe!O69,\"\")","v":""},{"$f":"IF(A69=\"\",\"\",IF(IFERROR(VLOOKUP(A69,Eingabe!$C$4:$F$24,4,FALSE),100)=100,B68,IFERROR(VLOOKUP(A69,Eingabe!$C$4:$F$24,4,FALSE),100)))","v":""}]
[{"$f":"IF(Eingabe!O70>-1,Eingabe!O70,\"\")","v":""},{"$f":"IF(A70=\"\",\"\",IF(IFERROR(VLOOKUP(A70,Eingabe!$C$4:$F$24,4,FALSE),100)=100,B69,IFERROR(VLOOKUP(A70,Eingabe!$C$4:$F$24,4,FALSE),100)))","v":""}]
[{"$f":"IF(Eingabe!O71>-1,Eingabe!O71,\"\")","v":""},{"$f":"IF(A71=\"\",\"\",IF(IFERROR(VLOOKUP(A71,Eingabe!$C$4:$F$24,4,FALSE),100)=100,B70,IFERROR(VLOOKUP(A71,Eingabe!$C$4:$F$24,4,FALSE),100)))","v":""}]
[{"$f":"IF(Eingabe!O72>-1,Eingabe!O72,\"\")","v":""},{"$f":"IF(A72=\"\",\"\",IF(IFERROR(VLOOKUP(A72,Eingabe!$C$4:$F$24,4,FALSE),100)=100,B71,IFERROR(VLOOKUP(A72,Eingabe!$C$4:$F$24,4,FALSE),100)))","v":""}]
[{"$f":"IF(Eingabe!O73>-1,Eingabe!O73,\"\")","v":""},{"$f":"IF(A73=\"\",\"\",IF(IFERROR(VLOOKUP(A73,Eingabe!$C$4:$F$24,4,FALSE),100)=100,B72,IFERROR(VLOOKUP(A73,Eingabe!$C$4:$F$24,4,FALSE),100)))","v":""}]
[{"$f":"IF(Eingabe!O74>-1,Eingabe!O74,\"\")","v":""},{"$f":"IF(A74=\"\",\"\",IF(IFERROR(VLOOKUP(A74,Eingabe!$C$4:$F$24,4,FALSE),100)=100,B73,IFERROR(VLOOKUP(A74,Eingabe!$C$4:$F$24,4,FALSE),100)))","v":""}]
[{"$f":"IF(Eingabe!O75>-1,Eingabe!O75,\"\")","v":""},{"$f":"IF(A75=\"\",\"\",IF(IFERROR(VLOOKUP(A75,Eingabe!$C$4:$F$24,4,FALSE),100)=100,B74,IFERROR(VLOOKUP(A75,Eingabe!$C$4:$F$24,4,FALSE),100)))","v":""}]
[{"$f":"IF(Eingabe!O76>-1,Eingabe!O76,\"\")","v":""},{"$f":"IF(A76=\"\",\"\",IF(IFERROR(VLOOKUP(A76,Eingabe!$C$4:$F$24,4,FALSE),100)=100,B75,IFERROR(VLOOKUP(A76,Eingabe!$C$4:$F$24,4,FALSE),100)))","v":""}]
[{"$f":"IF(Eingabe!O77>-1,Eingabe!O77,\"\")","v":""},{"$f":"IF(A77=\"\",\"\",IF(IFERROR(VLOOKUP(A77,Eingabe!$C$4:$F$24,4,FALSE),100)=100,B76,IFERROR(VLOOKUP(A77,Eingabe!$C$4:$F$24,4,FALSE),100)))","v":""}]
[{"$f":"IF(Eingabe!O78>-1,Eingabe!O78,\"\")","v":""},{"$f":"IF(A78=\"\",\"\",IF(IFERROR(VLOOKUP(A78,Eingabe!$C$4:$F$24,4,FALSE),100)=100,B77,IFERROR(VLOOKUP(A78,Eingabe!$C$4:$F$24,4,FALSE),100)))","v":""}]
[{"$f":"IF(Eingabe!O79>-1,Eingabe!O79,\"\")","v":""},{"$f":"IF(A79=\"\",\"\",IF(IFERROR(VLOOKUP(A79,Eingabe!$C$4:$F$24,4,FALSE),100)=100,B78,IFERROR(VLOOKUP(A79,Eingabe!$C$4:$F$24,4,FALSE),100)))","v":""}]
[{"$f":"IF(Eingabe!O80>-1,Eingabe!O80,\"\")","v":""},{"$f":"IF(A80=\"\",\"\",IF(IFERROR(VLOOKUP(A80,Eingabe!$C$4:$F$24,4,FALSE),100)=100,B79,IFERROR(VLOOKUP(A80,Eingabe!$C$4:$F$24,4,FALSE),100)))","v":""}]
[{"$f":"IF(Eingabe!O81>-1,Eingabe!O81,\"\")","v":""},{"$f":"IF(A81=\"\",\"\",IF(IFERROR(VLOOKUP(A81,Eingabe!$C$4:$F$24,4,FALSE),100)=100,B80,IFERROR(VLOOKUP(A81,Eingabe!$C$4:$F$24,4,FALSE),100)))","v":""}]
[{"$f":"IF(Eingabe!O82>-1,Eingabe!O82,\"\")","v":""},{"$f":"IF(A82=\"\",\"\",IF(IFERROR(VLOOKUP(A82,Eingabe!$C$4:$F$24,4,FALSE),100)=100,B81,IFERROR(VLOOKUP(A82,Eingabe!$C$4:$F$24,4,FALSE),100)))","v":""}]
[{"$f":"IF(Eingabe!O83>-1,Eingabe!O83,\"\")","v":""},{"$f":"IF(A83=\"\",\"\",IF(IFERROR(VLOOKUP(A83,Eingabe!$C$4:$F$24,4,FALSE),100)=100,B82,IFERROR(VLOOKUP(A83,Eingabe!$C$4:$F$24,4,FALSE),100)))","v":""}]
[{"$f":"IF(Eingabe!O84>-1,Eingabe!O84,\"\")","v":""},{"$f":"IF(A84=\"\",\"\",IF(IFERROR(VLOOKUP(A84,Eingabe!$C$4:$F$24,4,FALSE),100)=100,B83,IFERROR(VLOOKUP(A84,Eingabe!$C$4:$F$24,4,FALSE),100)))","v":""}]
[{"$f":"IF(Eingabe!O85>-1,Eingabe!O85,\"\")","v":""},{"$f":"IF(A85=\"\",\"\",IF(IFERROR(VLOOKUP(A85,Eingabe!$C$4:$F$24,4,FALSE),100)=100,B84,IFERROR(VLOOKUP(A85,Eingabe!$C$4:$F$24,4,FALSE),100)))","v":""}]
[{"$f":"IF(Eingabe!O86>-1,Eingabe!O86,\"\")","v":""},{"$f":"IF(A86=\"\",\"\",IF(IFERROR(VLOOKUP(A86,Eingabe!$C$4:$F$24,4,FALSE),100)=100,B85,IFERROR(VLOOKUP(A86,Eingabe!$C$4:$F$24,4,FALSE),100)))","v":""}]
[{"$f":"IF(Eingabe!O87>-1,Eingabe!O87,\"\")","v":""},{"$f":"IF(A87=\"\",\"\",IF(IFERROR(VLOOKUP(A87,Eingabe!$C$4:$F$24,4,FALSE),100)=100,B86,IFERROR(VLOOKUP(A87,Eingabe!$C$4:$F$24,4,FALSE),100)))","v":""}]
[{"$f":"IF(Eingabe!O88>-1,Eingabe!O88,\"\")","v":""},{"$f":"IF(A88=\"\",\"\",IF(IFERROR(VLOOKUP(A88,Eingabe!$C$4:$F$24,4,FALSE),100)=100,B87,IFERROR(VLOOKUP(A88,Eingabe!$C$4:$F$24,4,FALSE),100)))","v":""}]
[{"$f":"IF(Eingabe!O89>-1,Eingabe!O89,\"\")","v":""},{"$f":"IF(A89=\"\",\"\",IF(IFERROR(VLOOKUP(A89,Eingabe!$C$4:$F$24,4,FALSE),100)=100,B88,IFERROR(VLOOKUP(A89,Eingabe!$C$4:$F$24,4,FALSE),100)))","v":""}]
[{"$f":"IF(Eingabe!O90>-1,Eingabe!O90,\"\")","v":""},{"$f":"IF(A90=\"\",\"\",IF(IFERROR(VLOOKUP(A90,Eingabe!$C$4:$F$24,4,FALSE),100)=100,B89,IFERROR(VLOOKUP(A90,Eingabe!$C$4:$F$24,4,FALSE),100)))","v":""}]
[{"$f":"IF(Eingabe!O91>-1,Eingabe!O91,\"\")","v":""},{"$f":"IF(A91=\"\",\"\",IF(IFERROR(VLOOKUP(A91,Eingabe!$C$4:$F$24,4,FALSE),100)=100,B90,IFERROR(VLOOKUP(A91,Eingabe!$C$4:$F$24,4,FALSE),100)))","v":""}]
[{"$f":"IF(Eingabe!O92>-1,Eingabe!O92,\"\")","v":""},{"$f":"IF(A92=\"\",\"\",IF(IFERROR(VLOOKUP(A92,Eingabe!$C$4:$F$24,4,FALSE),100)=100,B91,IFERROR(VLOOKUP(A92,Eingabe!$C$4:$F$24,4,FALSE),100)))","v":""}]
[{"$f":"IF(Eingabe!O93>-1,Eingabe!O93,\"\")","v":""},{"$f":"IF(A93=\"\",\"\",IF(IFERROR(VLOOKUP(A93,Eingabe!$C$4:$F$24,4,FALSE),100)=100,B92,IFERROR(VLOOKUP(A93,Eingabe!$C$4:$F$24,4,FALSE),100)))","v":""}]
[{"$f":"IF(Eingabe!O94>-1,Eingabe!O94,\"\")","v":""},{"$f":"IF(A94=\"\",\"\",IF(IFERROR(VLOOKUP(A94,Eingabe!$C$4:$F$24,4,FALSE),100)=100,B93,IFERROR(VLOOKUP(A94,Eingabe!$C$4:$F$24,4,FALSE),100)))","v":""}]
[{"$f":"IF(Eingabe!O95>-1,Eingabe!O95,\"\")","v":""},{"$f":"IF(A95=\"\",\"\",IF(IFERROR(VLOOKUP(A95,Eingabe!$C$4:$F$24,4,FALSE),100)=100,B94,IFERROR(VLOOKUP(A95,Eingabe!$C$4:$F$24,4,FALSE),100)))","v":""}]
[{"$f":"IF(Eingabe!O96>-1,Eingabe!O96,\"\")","v":""},{"$f":"IF(A96=\"\",\"\",IF(IFERROR(VLOOKUP(A96,Eingabe!$C$4:$F$24,4,FALSE),100)=100,B95,IFERROR(VLOOKUP(A96,Eingabe!$C$4:$F$24,4,FALSE),100)))","v":""}]
[{"$f":"IF(Eingabe!O97>-1,Eingabe!O97,\"\")","v":""},{"$f":"IF(A97=\"\",\"\",IF(IFERROR(VLOOKUP(A97,Eingabe!$C$4:$F$24,4,FALSE),100)=100,B96,IFERROR(VLOOKUP(A97,Eingabe!$C$4:$F$24,4,FALSE),100)))","v":""}]
[{"$f":"IF(Eingabe!O98>-1,Eingabe!O98,\"\")","v":""},{"$f":"IF(A98=\"\",\"\",IF(IFERROR(VLOOKUP(A98,Eingabe!$C$4:$F$24,4,FALSE),100)=100,B97,IFERROR(VLOOKUP(A98,Eingabe!$C$4:$F$24,4,FALSE),100)))","v":""}]
[{"$f":"IF(Eingabe!O99>-1,Eingabe!O99,\"\")","v":""},{"$f":"IF(A99=\"\",\"\",IF(IFERROR(VLOOKUP(A99,Eingabe!$C$4:$F$24,4,FALSE),100)=100,B98,IFERROR(VLOOKUP(A99,Eingabe!$C$4:$F$24,4,FALSE),100)))","v":""}]
[{"$f":"IF(Eingabe!O100>-1,Eingabe!O100,\"\")","v":""},{"$f":"IF(A100=\"\",\"\",IF(IFERROR(VLOOKUP(A100,Eingabe!$C$4:$F$24,4,FALSE),100)=100,B99,IFERROR(VLOOKUP(A100,Eingabe!$C$4:$F$24,4,FALSE),100)))","v":""}]
[{"$f":"IF(Eingabe!O101>-1,Eingabe!O101,\"\")","v":""},{"$f":"IF(A101=\"\",\"\",IF(IFERROR(VLOOKUP(A101,Eingabe!$C$4:$F$24,4,FALSE),100)=100,B100,IFERROR(VLOOKUP(A101,Eingabe!$C$4:$F$24,4,FALSE),100)))","v":""}]
[{"$f":"IF(Eingabe!O102>-1,Eingabe!O102,\"\")","v":""},{"$f":"IF(A102=\"\",\"\",IF(IFERROR(VLOOKUP(A102,Eingabe!$C$4:$F$24,4,FALSE),100)=100,B101,IFERROR(VLOOKUP(A102,Eingabe!$C$4:$F$24,4,FALSE),100)))","v":""}]
[{"$f":"IF(Eingabe!O103>-1,Eingabe!O103,\"\")","v":""},{"$f":"IF(A103=\"\",\"\",IF(IFERROR(VLOOKUP(A103,Eingabe!$C$4:$F$24,4,FALSE),100)=100,B102,IFERROR(VLOOKUP(A103,Eingabe!$C$4:$F$24,4,FALSE),100)))","v":""}]
[{"$f":"IF(Eingabe!O104>-1,Eingabe!O104,\"\")","v":""},{"$f":"IF(A104=\"\",\"\",IF(IFERROR(VLOOKUP(A104,Eingabe!$C$4:$F$24,4,FALSE),100)=100,B103,IFERROR(VLOOKUP(A104,Eingabe!$C$4:$F$24,4,FALSE),100)))","v":""}]
[{"$f":"IF(Eingabe!O105>-1,Eingabe!O105,\"\")","v":""},{"$f":"IF(A105=\"\",\"\",IF(IFERROR(VLOOKUP(A105,Eingabe!$C$4:$F$24,4,FALSE),100)=100,B104,IFERROR(VLOOKUP(A105,Eingabe!$C$4:$F$24,4,FALSE),100)))","v":""}]
[{"$f":"IF(Eingabe!O106>-1,Eingabe!O106,\"\")","v":""},{"$f":"IF(A106=\"\",\"\",IF(IFERROR(VLOOKUP(A106,Eingabe!$C$4:$F$24,4,FALSE),100)=100,B105,IFERROR(VLOOKUP(A106,Eingabe!$C$4:$F$24,4,FALSE),100)))","v":""}]
[{"$f":"IF(Eingabe!O107>-1,Eingabe!O107,\"\")","v":""},{"$f":"IF(A107=\"\",\"\",IF(IFERROR(VLOOKUP(A107,Eingabe!$C$4:$F$24,4,FALSE),100)=100,B106,IFERROR(VLOOKUP(A107,Eingabe!$C$4:$F$24,4,FALSE),100)))","v":""}]
[{"$f":"IF(Eingabe!O108>-1,Eingabe!O108,\"\")","v":""},{"$f":"IF(A108=\"\",\"\",IF(IFERROR(VLOOKUP(A108,Eingabe!$C$4:$F$24,4,FALSE),100)=100,B107,IFERROR(VLOOKUP(A108,Eingabe!$C$4:$F$24,4,FALSE),100)))","v":""}]
[{"$f":"IF(Eingabe!O109>-1,Eingabe!O109,\"\")","v":""},{"$f":"IF(A109=\"\",\"\",IF(IFERROR(VLOOKUP(A109,Eingabe!$C$4:$F$24,4,FALSE),100)=100,B108,IFERROR(VLOOKUP(A109,Eingabe!$C$4:$F$24,4,FALSE),100)))","v":""}]
[{"$f":"IF(Eingabe!O110>-1,Eingabe!O110,\"\")","v":""},{"$f":"IF(A110=\"\",\"\",IF(IFERROR(VLOOKUP(A110,Eingabe!$C$4:$F$24,4,FALSE),100)=100,B109,IFERROR(VLOOKUP(A110,Eingabe!$C$4:$F$24,4,FALSE),100)))","v":""}]
[{"$f":"IF(Eingabe!O111>-1,Eingabe!O111,\"\")","v":""},{"$f":"IF(A111=\"\",\"\",IF(IFERROR(VLOOKUP(A111,Eingabe!$C$4:$F$24,4,FALSE),100)=100,B110,IFERROR(VLOOKUP(A111,Eingabe!$C$4:$F$24,4,FALSE),100)))","v":""}]
[{"$f":"IF(Eingabe!O112>-1,Eingabe!O112,\"\")","v":""},{"$f":"IF(A112=\"\",\"\",IF(IFERROR(VLOOKUP(A112,Eingabe!$C$4:$F$24,4,FALSE),100)=100,B111,IFERROR(VLOOKUP(A112,Eingabe!$C$4:$F$24,4,FALSE),100)))","v":""}]
[{"$f":"IF(Eingabe!O113>-1,Eingabe!O113,\"\")","v":""},{"$f":"IF(A113=\"\",\"\",IF(IFERROR(VLOOKUP(A113,Eingabe!$C$4:$F$24,4,FALSE),100)=100,B112,IFERROR(VLOOKUP(A113,Eingabe!$C$4:$F$24,4,FALSE),100)))","v":""}]
[{"$f":"IF(Eingabe!O114>-1,Eingabe!O114,\"\")","v":""},{"$f":"IF(A114=\"\",\"\",IF(IFERROR(VLOOKUP(A114,Eingabe!$C$4:$F$24,4,FALSE),100)=100,B113,IFERROR(VLOOKUP(A114,Eingabe!$C$4:$F$24,4,FALSE),100)))","v":""}]
[{"$f":"IF(Eingabe!O115>-1,Eingabe!O115,\"\")","v":""},{"$f":"IF(A115=\"\",\"\",IF(IFERROR(VLOOKUP(A115,Eingabe!$C$4:$F$24,4,FALSE),100)=100,B114,IFERROR(VLOOKUP(A115,Eingabe!$C$4:$F$24,4,FALSE),100)))","v":""}]
[{"$f":"IF(Eingabe!O116>-1,Eingabe!O116,\"\")","v":""},{"$f":"IF(A116=\"\",\"\",IF(IFERROR(VLOOKUP(A116,Eingabe!$C$4:$F$24,4,FALSE),100)=100,B115,IFERROR(VLOOKUP(A116,Eingabe!$C$4:$F$24,4,FALSE),100)))","v":""}]
[{"$f":"IF(Eingabe!O117>-1,Eingabe!O117,\"\")","v":""},{"$f":"IF(A117=\"\",\"\",IF(IFERROR(VLOOKUP(A117,Eingabe!$C$4:$F$24,4,FALSE),100)=100,B116,IFERROR(VLOOKUP(A117,Eingabe!$C$4:$F$24,4,FALSE),100)))","v":""}]
[{"$f":"IF(Eingabe!O118>-1,Eingabe!O118,\"\")","v":""},{"$f":"IF(A118=\"\",\"\",IF(IFERROR(VLOOKUP(A118,Eingabe!$C$4:$F$24,4,FALSE),100)=100,B117,IFERROR(VLOOKUP(A118,Eingabe!$C$4:$F$24,4,FALSE),100)))","v":""}]
[{"$f":"IF(Eingabe!O119>-1,Eingabe!O119,\"\")","v":""},{"$f":"IF(A119=\"\",\"\",IF(IFERROR(VLOOKUP(A119,Eingabe!$C$4:$F$24,4,FALSE),100)=100,B118,IFERROR(VLOOKUP(A119,Eingabe!$C$4:$F$24,4,FALSE),100)))","v":""}]
[{"$f":"IF(Eingabe!O120>-1,Eingabe!O120,\"\")","v":""},{"$f":"IF(A120=\"\",\"\",IF(IFERROR(VLOOKUP(A120,Eingabe!$C$4:$F$24,4,FALSE),100)=100,B119,IFERROR(VLOOKUP(A120,Eingabe!$C$4:$F$24,4,FALSE),100)))","v":""}]
[{"$f":"IF(Eingabe!O121>-1,Eingabe!O121,\"\")","v":""},{"$f":"IF(A121=\"\",\"\",IF(IFERROR(VLOOKUP(A121,Eingabe!$C$4:$F$24,4,FALSE),100)=100,B120,IFERROR(VLOOKUP(A121,Eingabe!$C$4:$F$24,4,FALSE),100)))","v":""}]
[{"$f":"IF(Eingabe!O122>-1,Eingabe!O122,\"\")","v":""},{"$f":"IF(A122=\"\",\"\",IF(IFERROR(VLOOKUP(A122,Eingabe!$C$4:$F$24,4,FALSE),100)=100,B121,IFERROR(VLOOKUP(A122,Eingabe!$C$4:$F$24,4,FALSE),100)))","v":""}]
[{"$f":"IF(Eingabe!O123>-1,Eingabe!O123,\"\")","v":""},{"$f":"IF(A123=\"\",\"\",IF(IFERROR(VLOOKUP(A123,Eingabe!$C$4:$F$24,4,FALSE),100)=100,B122,IFERROR(VLOOKUP(A123,Eingabe!$C$4:$F$24,4,FALSE),100)))","v":""}]
[{"$f":"IF(Eingabe!O124>-1,Eingabe!O124,\"\")","v":""},{"$f":"IF(A124=\"\",\"\",IF(IFERROR(VLOOKUP(A124,Eingabe!$C$4:$F$24,4,FALSE),100)=100,B123,IFERROR(VLOOKUP(A124,Eingabe!$C$4:$F$24,4,FALSE),100)))","v":""}]
[{"$f":"IF(Eingabe!O125>-1,Eingabe!O125,\"\")","v":""},{"$f":"IF(A125=\"\",\"\",IF(IFERROR(VLOOKUP(A125,Eingabe!$C$4:$F$24,4,FALSE),100)=100,B124,IFERROR(VLOOKUP(A125,Eingabe!$C$4:$F$24,4,FALSE),100)))","v":""}]
[{"$f":"IF(Eingabe!O126>-1,Eingabe!O126,\"\")","v":""},{"$f":"IF(A126=\"\",\"\",IF(IFERROR(VLOOKUP(A126,Eingabe!$C$4:$F$24,4,FALSE),100)=100,B125,IFERROR(VLOOKUP(A126,Eingabe!$C$4:$F$24,4,FALSE),100)))","v":""}]
[{"$f":"IF(Eingabe!O127>-1,Eingabe!O127,\"\")","v":""},{"$f":"IF(A127=\"\",\"\",IF(IFERROR(VLOOKUP(A127,Eingabe!$C$4:$F$24,4,FALSE),100)=100,B126,IFERROR(VLOOKUP(A127,Eingabe!$C$4:$F$24,4,FALSE),100)))","v":""}]
[{"$f":"IF(Eingabe!O128>-1,Eingabe!O128,\"\")","v":""},{"$f":"IF(A128=\"\",\"\",IF(IFERROR(VLOOKUP(A128,Eingabe!$C$4:$F$24,4,FALSE),100)=100,B127,IFERROR(VLOOKUP(A128,Eingabe!$C$4:$F$24,4,FALSE),100)))","v":""}]
[{"$f":"IF(Eingabe!O129>-1,Eingabe!O129,\"\")","v":""},{"$f":"IF(A129=\"\",\"\",IF(IFERROR(VLOOKUP(A129,Eingabe!$C$4:$F$24,4,FALSE),100)=100,B128,IFERROR(VLOOKUP(A129,Eingabe!$C$4:$F$24,4,FALSE),100)))","v":""}]
[{"$f":"IF(Eingabe!O130>-1,Eingabe!O130,\"\")","v":""},{"$f":"IF(A130=\"\",\"\",IF(IFERROR(VLOOKUP(A130,Eingabe!$C$4:$F$24,4,FALSE),100)=100,B129,IFERROR(VLOOKUP(A130,Eingabe!$C$4:$F$24,4,FALSE),100)))","v":""}]
[{"$f":"IF(Eingabe!O131>-1,Eingabe!O131,\"\")","v":""},{"$f":"IF(A131=\"\",\"\",IF(IFERROR(VLOOKUP(A131,Eingabe!$C$4:$F$24,4,FALSE),100)=100,B130,IFERROR(VLOOKUP(A131,Eingabe!$C$4:$F$24,4,FALSE),100)))","v":""}]
[{"$f":"IF(Eingabe!O132>-1,Eingabe!O132,\"\")","v":""},{"$f":"IF(A132=\"\",\"\",IF(IFERROR(VLOOKUP(A132,Eingabe!$C$4:$F$24,4,FALSE),100)=100,B131,IFERROR(VLOOKUP(A132,Eingabe!$C$4:$F$24,4,FALSE),100)))","v":""}]
[{"$f":"IF(Eingabe!O133>-1,Eingabe!O133,\"\")","v":""},{"$f":"IF(A133=\"\",\"\",IF(IFERROR(VLOOKUP(A133,Eingabe!$C$4:$F$24,4,FALSE),100)=100,B132,IFERROR(VLOOKUP(A133,Eingabe!$C$4:$F$24,4,FALSE),100)))","v":""}]
[{"$f":"IF(Eingabe!O134>-1,Eingabe!O134,\"\")","v":""},{"$f":"IF(A134=\"\",\"\",IF(IFERROR(VLOOKUP(A134,Eingabe!$C$4:$F$24,4,FALSE),100)=100,B133,IFERROR(VLOOKUP(A134,Eingabe!$C$4:$F$24,4,FALSE),100)))","v":""}]
[{"$f":"IF(Eingabe!O135>-1,Eingabe!O135,\"\")","v":""},{"$f":"IF(A135=\"\",\"\",IF(IFERROR(VLOOKUP(A135,Eingabe!$C$4:$F$24,4,FALSE),100)=100,B134,IFERROR(VLOOKUP(A135,Eingabe!$C$4:$F$24,4,FALSE),100)))","v":""}]
[{"$f":"IF(Eingabe!O136>-1,Eingabe!O136,\"\")","v":""},{"$f":"IF(A136=\"\",\"\",IF(IFERROR(VLOOKUP(A136,Eingabe!$C$4:$F$24,4,FALSE),100)=100,B135,IFERROR(VLOOKUP(A136,Eingabe!$C$4:$F$24,4,FALSE),100)))","v":""}]
[{"$f":"IF(Eingabe!O137>-1,Eingabe!O137,\"\")","v":""},{"$f":"IF(A137=\"\",\"\",IF(IFERROR(VLOOKUP(A137,Eingabe!$C$4:$F$24,4,FALSE),100)=100,B136,IFERROR(VLOOKUP(A137,Eingabe!$C$4:$F$24,4,FALSE),100)))","v":""}]
[{"$f":"IF(Eingabe!O138>-1,Eingabe!O138,\"\")","v":""},{"$f":"IF(A138=\"\",\"\",IF(IFERROR(VLOOKUP(A138,Eingabe!$C$4:$F$24,4,FALSE),100)=100,B137,IFERROR(VLOOKUP(A138,Eingabe!$C$4:$F$24,4,FALSE),100)))","v":""}]
[{"$f":"IF(Eingabe!O139>-1,Eingabe!O139,\"\")","v":""},{"$f":"IF(A139=\"\",\"\",IF(IFERROR(VLOOKUP(A139,Eingabe!$C$4:$F$24,4,FALSE),100)=100,B138,IFERROR(VLOOKUP(A139,Eingabe!$C$4:$F$24,4,FALSE),100)))","v":""}]
[{"$f":"IF(Eingabe!O140>-1,Eingabe!O140,\"\")","v":""},{"$f":"IF(A140=\"\",\"\",IF(IFERROR(VLOOKUP(A140,Eingabe!$C$4:$F$24,4,FALSE),100)=100,B139,IFERROR(VLOOKUP(A140,Eingabe!$C$4:$F$24,4,FALSE),100)))","v":""}]
[{"$f":"IF(Eingabe!O141>-1,Eingabe!O141,\"\")","v":""},{"$f":"IF(A141=\"\",\"\",IF(IFERROR(VLOOKUP(A141,Eingabe!$C$4:$F$24,4,FALSE),100)=100,B140,IFERROR(VLOOKUP(A141,Eingabe!$C$4:$F$24,4,FALSE),100)))","v":""}]
[{"$f":"IF(Eingabe!O142>-1,Eingabe!O142,\"\")","v":""},{"$f":"IF(A142=\"\",\"\",IF(IFERROR(VLOOKUP(A142,Eingabe!$C$4:$F$24,4,FALSE),100)=100,B141,IFERROR(VLOOKUP(A142,Eingabe!$C$4:$F$24,4,FALSE),100)))","v":""}]
[{"$f":"IF(Eingabe!O143>-1,Eingabe!O143,\"\")","v":""},{"$f":"IF(A143=\"\",\"\",IF(IFERROR(VLOOKUP(A143,Eingabe!$C$4:$F$24,4,FALSE),100)=100,B142,IFERROR(VLOOKUP(A143,Eingabe!$C$4:$F$24,4,FALSE),100)))","v":""}]
[{"$f":"IF(Eingabe!O144>-1,Eingabe!O144,\"\")","v":""},{"$f":"IF(A144=\"\",\"\",IF(IFERROR(VLOOKUP(A144,Eingabe!$C$4:$F$24,4,FALSE),100)=100,B143,IFERROR(VLOOKUP(A144,Eingabe!$C$4:$F$24,4,FALSE),100)))","v":""}]
[{"$f":"IF(Eingabe!O145>-1,Eingabe!O145,\"\")","v":""},{"$f":"IF(A145=\"\",\"\",IF(IFERROR(VLOOKUP(A145,Eingabe!$C$4:$F$24,4,FALSE),100)=100,B144,IFERROR(VLOOKUP(A145,Eingabe!$C$4:$F$24,4,FALSE),100)))","v":""}]
[{"$f":"IF(Eingabe!O146>-1,Eingabe!O146,\"\")","v":""},{"$f":"IF(A146=\"\",\"\",IF(IFERROR(VLOOKUP(A146,Eingabe!$C$4:$F$24,4,FALSE),100)=100,B145,IFERROR(VLOOKUP(A146,Eingabe!$C$4:$F$24,4,FALSE),100)))","v":""}]
[{"$f":"IF(Eingabe!O147>-1,Eingabe!O147,\"\")","v":""},{"$f":"IF(A147=\"\",\"\",IF(IFERROR(VLOOKUP(A147,Eingabe!$C$4:$F$24,4,FALSE),100)=100,B146,IFERROR(VLOOKUP(A147,Eingabe!$C$4:$F$24,4,FALSE),100)))","v":""}]
[{"$f":"IF(Eingabe!O148>-1,Eingabe!O148,\"\")","v":""},{"$f":"IF(A148=\"\",\"\",IF(IFERROR(VLOOKUP(A148,Eingabe!$C$4:$F$24,4,FALSE),100)=100,B147,IFERROR(VLOOKUP(A148,Eingabe!$C$4:$F$24,4,FALSE),100)))","v":""}]
[{"$f":"IF(Eingabe!O149>-1,Eingabe!O149,\"\")","v":""},{"$f":"IF(A149=\"\",\"\",IF(IFERROR(VLOOKUP(A149,Eingabe!$C$4:$F$24,4,FALSE),100)=100,B148,IFERROR(VLOOKUP(A149,Eingabe!$C$4:$F$24,4,FALSE),100)))","v":""}]
[{"$f":"IF(Eingabe!O150>-1,Eingabe!O150,\"\")","v":""},{"$f":"IF(A150=\"\",\"\",IF(IFERROR(VLOOKUP(A150,Eingabe!$C$4:$F$24,4,FALSE),100)=100,B149,IFERROR(VLOOKUP(A150,Eingabe!$C$4:$F$24,4,FALSE),100)))","v":""}]
[{"$f":"IF(Eingabe!O151>-1,Eingabe!O151,\"\")","v":""},{"$f":"IF(A151=\"\",\"\",IF(IFERROR(VLOOKUP(A151,Eingabe!$C$4:$F$24,4,FALSE),100)=100,B150,IFERROR(VLOOKUP(A151,Eingabe!$C$4:$F$24,4,FALSE),100)))","v":""}]
[{"$f":"IF(Eingabe!O152>-1,Eingabe!O152,\"\")","v":""},{"$f":"IF(A152=\"\",\"\",IF(IFERROR(VLOOKUP(A152,Eingabe!$C$4:$F$24,4,FALSE),100)=100,B151,IFERROR(VLOOKUP(A152,Eingabe!$C$4:$F$24,4,FALSE),100)))","v":""}]
[{"$f":"IF(Eingabe!O153>-1,Eingabe!O153,\"\")","v":""},{"$f":"IF(A153=\"\",\"\",IF(IFERROR(VLOOKUP(A153,Eingabe!$C$4:$F$24,4,FALSE),100)=100,B152,IFERROR(VLOOKUP(A153,Eingabe!$C$4:$F$24,4,FALSE),100)))","v":""}]
[{"$f":"IF(Eingabe!O154>-1,Eingabe!O154,\"\")","v":""},{"$f":"IF(A154=\"\",\"\",IF(IFERROR(VLOOKUP(A154,Eingabe!$C$4:$F$24,4,FALSE),100)=100,B153,IFERROR(VLOOKUP(A154,Eingabe!$C$4:$F$24,4,FALSE),100)))","v":""}]
[{"$f":"IF(Eingabe!O155>-1,Eingabe!O155,\"\")","v":""},{"$f":"IF(A155=\"\",\"\",IF(IFERROR(VLOOKUP(A155,Eingabe!$C$4:$F$24,4,FALSE),100)=100,B154,IFERROR(VLOOKUP(A155,Eingabe!$C$4:$F$24,4,FALSE),100)))","v":""}]
[{"$f":"IF(Eingabe!O156>-1,Eingabe!O156,\"\")","v":""},{"$f":"IF(A156=\"\",\"\",IF(IFERROR(VLOOKUP(A156,Eingabe!$C$4:$F$24,4,FALSE),100)=100,B155,IFERROR(VLOOKUP(A156,Eingabe!$C$4:$F$24,4,FALSE),100)))","v":""}]
[{"$f":"IF(Eingabe!O157>-1,Eingabe!O157,\"\")","v":""},{"$f":"IF(A157=\"\",\"\",IF(IFERROR(VLOOKUP(A157,Eingabe!$C$4:$F$24,4,FALSE),100)=100,B156,IFERROR(VLOOKUP(A157,Eingabe!$C$4:$F$24,4,FALSE),100)))","v":""}]
[{"$f":"IF(Eingabe!O158>-1,Eingabe!O158,\"\")","v":""},{"$f":"IF(A158=\"\",\"\",IF(IFERROR(VLOOKUP(A158,Eingabe!$C$4:$F$24,4,FALSE),100)=100,B157,IFERROR(VLOOKUP(A158,Eingabe!$C$4:$F$24,4,FALSE),100)))","v":""}]
[{"$f":"IF(Eingabe!O159>-1,Eingabe!O159,\"\")","v":""},{"$f":"IF(A159=\"\",\"\",IF(IFERROR(VLOOKUP(A159,Eingabe!$C$4:$F$24,4,FALSE),100)=100,B158,IFERROR(VLOOKUP(A159,Eingabe!$C$4:$F$24,4,FALSE),100)))","v":""}]
[{"$f":"IF(Eingabe!O160>-1,Eingabe!O160,\"\")","v":""},{"$f":"IF(A160=\"\",\"\",IF(IFERROR(VLOOKUP(A160,Eingabe!$C$4:$F$24,4,FALSE),100)=100,B159,IFERROR(VLOOKUP(A160,Eingabe!$C$4:$F$24,4,FALSE),100)))","v":""}]
[{"$f":"IF(Eingabe!O161>-1,Eingabe!O161,\"\")","v":""},{"$f":"IF(A161=\"\",\"\",IF(IFERROR(VLOOKUP(A161,Eingabe!$C$4:$F$24,4,FALSE),100)=100,B160,IFERROR(VLOOKUP(A161,Eingabe!$C$4:$F$24,4,FALSE),100)))","v":""}]
[{"$f":"IF(Eingabe!O162>-1,Eingabe!O162,\"\")","v":""},{"$f":"IF(A162=\"\",\"\",IF(IFERROR(VLOOKUP(A162,Eingabe!$C$4:$F$24,4,FALSE),100)=100,B161,IFERROR(VLOOKUP(A162,Eingabe!$C$4:$F$24,4,FALSE),100)))","v":""}]
[{"$f":"IF(Eingabe!O163>-1,Eingabe!O163,\"\")","v":""},{"$f":"IF(A163=\"\",\"\",IF(IFERROR(VLOOKUP(A163,Eingabe!$C$4:$F$24,4,FALSE),100)=100,B162,IFERROR(VLOOKUP(A163,Eingabe!$C$4:$F$24,4,FALSE),100)))","v":""}]
[{"$f":"IF(Eingabe!O164>-1,Eingabe!O164,\"\")","v":""},{"$f":"IF(A164=\"\",\"\",IF(IFERROR(VLOOKUP(A164,Eingabe!$C$4:$F$24,4,FALSE),100)=100,B163,IFERROR(VLOOKUP(A164,Eingabe!$C$4:$F$24,4,FALSE),100)))","v":""}]
[{"$f":"IF(Eingabe!O165>-1,Eingabe!O165,\"\")","v":""},{"$f":"IF(A165=\"\",\"\",IF(IFERROR(VLOOKUP(A165,Eingabe!$C$4:$F$24,4,FALSE),100)=100,B164,IFERROR(VLOOKUP(A165,Eingabe!$C$4:$F$24,4,FALSE),100)))","v":""}]
[{"$f":"IF(Eingabe!O166>-1,Eingabe!O166,\"\")","v":""},{"$f":"IF(A166=\"\",\"\",IF(IFERROR(VLOOKUP(A166,Eingabe!$C$4:$F$24,4,FALSE),100)=100,B165,IFERROR(VLOOKUP(A166,Eingabe!$C$4:$F$24,4,FALSE),100)))","v":""}]
[{"$f":"IF(Eingabe!O167>-1,Eingabe!O167,\"\")","v":""},{"$f":"IF(A167=\"\",\"\",IF(IFERROR(VLOOKUP(A167,Eingabe!$C$4:$F$24,4,FALSE),100)=100,B166,IFERROR(VLOOKUP(A167,Eingabe!$C$4:$F$24,4,FALSE),100)))","v":""}]
[{"$f":"IF(Eingabe!O168>-1,Eingabe!O168,\"\")","v":""},{"$f":"IF(A168=\"\",\"\",IF(IFERROR(VLOOKUP(A168,Eingabe!$C$4:$F$24,4,FALSE),100)=100,B167,IFERROR(VLOOKUP(A168,Eingabe!$C$4:$F$24,4,FALSE),100)))","v":""}]
[{"$f":"IF(Eingabe!O169>-1,Eingabe!O169,\"\")","v":""},{"$f":"IF(A169=\"\",\"\",IF(IFERROR(VLOOKUP(A169,Eingabe!$C$4:$F$24,4,FALSE),100)=100,B168,IFERROR(VLOOKUP(A169,Eingabe!$C$4:$F$24,4,FALSE),100)))","v":""}]
[{"$f":"IF(Eingabe!O170>-1,Eingabe!O170,\"\")","v":""},{"$f":"IF(A170=\"\",\"\",IF(IFERROR(VLOOKUP(A170,Eingabe!$C$4:$F$24,4,FALSE),100)=100,B169,IFERROR(VLOOKUP(A170,Eingabe!$C$4:$F$24,4,FALSE),100)))","v":""}]
[{"$f":"IF(Eingabe!O171>-1,Eingabe!O171,\"\")","v":""},{"$f":"IF(A171=\"\",\"\",IF(IFERROR(VLOOKUP(A171,Eingabe!$C$4:$F$24,4,FALSE),100)=100,B170,IFERROR(VLOOKUP(A171,Eingabe!$C$4:$F$24,4,FALSE),100)))","v":""}]
[{"$f":"IF(Eingabe!O172>-1,Eingabe!O172,\"\")","v":""},{"$f":"IF(A172=\"\",\"\",IF(IFERROR(VLOOKUP(A172,Eingabe!$C$4:$F$24,4,FALSE),100)=100,B171,IFERROR(VLOOKUP(A172,Eingabe!$C$4:$F$24,4,FALSE),100)))","v":""}]
[{"$f":"IF(Eingabe!O173>-1,Eingabe!O173,\"\")","v":""},{"$f":"IF(A173=\"\",\"\",IF(IFERROR(VLOOKUP(A173,Eingabe!$C$4:$F$24,4,FALSE),100)=100,B172,IFERROR(VLOOKUP(A173,Eingabe!$C$4:$F$24,4,FALSE),100)))","v":""}]
[{"$f":"IF(Eingabe!O174>-1,Eingabe!O174,\"\")","v":""}]
[{"$f":"IF(Eingabe!O175>-1,Eingabe!O175,\"\")","v":""}]
[{"$f":"IF(Eingabe!O176>-1,Eingabe!O176,\"\")","v":""}]
[{"$f":"IF(Eingabe!O177>-1,Eingabe!O177,\"\")","v":""}]
[{"$f":"IF(Eingabe!O178>-1,Eingabe!O178,\"\")","v":""}]
[{"$f":"IF(Eingabe!O179>-1,Eingabe!O179,\"\")","v":""}]
[{"$f":"IF(Eingabe!O180>-1,Eingabe!O180,\"\")","v":""}]
[{"$f":"IF(Eingabe!O181>-1,Eingabe!O181,\"\")","v":""}]
[{"$f":"IF(Eingabe!O182>-1,Eingabe!O182,\"\")","v":""}]
[{"$f":"IF(Eingabe!O183>-1,Eingabe!O183,\"\")","v":""}]
[{"$f":"IF(Eingabe!O184>-1,Eingabe!O184,\"\")","v":""}]
[{"$f":"IF(Eingabe!O185>-1,Eingabe!O185,\"\")","v":""}]
[{"$f":"IF(Eingabe!O186>-1,Eingabe!O186,\"\")","v":""}]
[{"$f":"IF(Eingabe!O187>-1,Eingabe!O187,\"\")","v":""}]
[{"$f":"IF(Eingabe!O188>-1,Eingabe!O188,\"\")","v":""}]
[{"$f":"IF(Eingabe!O189>-1,Eingabe!O189,\"\")","v":""}]
[{"$f":"IF(Eingabe!O190>-1,Eingabe!O190,\"\")","v":""}]
[{"$f":"IF(Eingabe!O191>-1,Eingabe!O191,\"\")","v":""}]
[{"$f":"IF(Eingabe!O192>-1,Eingabe!O192,\"\")","v":""}]
[{"$f":"IF(Eingabe!O193>-1,Eingabe!O193,\"\")","v":""}]
[{"$f":"IF(Eingabe!O194>-1,Eingabe!O194,\"\")","v":""}]
[{"$f":"IF(Eingabe!O195>-1,Eingabe!O195,\"\")","v":""}]
[{"$f":"IF(Eingabe!O196>-1,Eingabe!O196,\"\")","v":""}]
[{"$f":"IF(Eingabe!O197>-1,Eingabe!O197,\"\")","v":""}]
[{"$f":"IF(Eingabe!O198>-1,Eingabe!O198,\"\")","v":""}]
[{"$f":"IF(Eingabe!O199>-1,Eingabe!O199,\"\")","v":""}]
[{"$f":"IF(Eingabe!O200>-1,Eingabe!O200,\"\")","v":""}]
[{"$f":"IF(Eingabe!O201>-1,Eingabe!O201,\"\")","v":""}]
[{"$f":"IF(Eingabe!O202>-1,Eingabe!O202,\"\")","v":""}]
[{"$f":"IF(Eingabe!O203>-1,Eingabe!O203,\"\")","v":""}]
[{"$f":"IF(Eingabe!O204>-1,Eingabe!O204,\"\")","v":""}]
[{"$f":"IF(Eingabe!O205>-1,Eingabe!O205,\"\")","v":""}]
[{"$f":"IF(Eingabe!O206>-1,Eingabe!O206,\"\")","v":""}]

{"sheet":"Punkteeingabe","index":2,"n_rows":37,"n_cols":10,"rows_kept":37,"cut":false,"hidden":false,"merged":[]}
["Namen","Punkte","Note",null,"Schnitt:",{"$f":"AVERAGE(D2:D37)","v":2.7857142857142856},null,null,0,{"$f":"\"\"","v":""}]
["Schüler a",12,{"$f":"IF(B2=\"\",,VLOOKUP(B2,'Punkte-Note'!$A$2:$B$178,2,FALSE))","v":"3/4"},{"$f":"VLOOKUP(C2,$I$1:$J$22,2,FALSE)","v":3.5},null,null,null,null,"1",1]
["Schüler b",22,{"$f":"IF(B3=\"\",,VLOOKUP(B3,'Punkte-Note'!$A$2:$B$178,2,FALSE))","v":"1"},{"$f":"VLOOKUP(C3,$I$1:$J$22,2,FALSE)","v":1},null,null,null,null,"1-",1.25]
["Schüler c",9,{"$f":"IF(B4=\"\",,VLOOKUP(B4,'Punkte-Note'!$A$2:$B$178,2,FALSE))","v":"4"},4,null,null,null,null,"1/2",1.5]
["Schüler d",18,{"$f":"IF(B5=\"\",,VLOOKUP(B5,'Punkte-Note'!$A$2:$B$178,2,FALSE))","v":"2"},2,null,null,null,null,"2+",1.75]
["Schüler e",12,{"$f":"IF(B6=\"\",,VLOOKUP(B6,'Punkte-Note'!$A$2:$B$178,2,FALSE))","v":"3/4"},3.5,null,null,null,null,"2",2]
["Schüler f",15,{"$f":"IF(B7=\"\",,VLOOKUP(B7,'Punkte-Note'!$A$2:$B$178,2,FALSE))","v":"3+"},2.75,null,null,null,null,"2-",2.25]
["Schüler g",15,{"$f":"IF(B8=\"\",,VLOOKUP(B8,'Punkte-Note'!$A$2:$B$178,2,FALSE))","v":"3+"},2.75,null,null,null,null,"2/3",2.5]
["usw. …",null,{"$f":"IF(B9=\"\",,VLOOKUP(B9,'Punkte-Note'!$A$2:$B$178,2,FALSE))","v":0},"",null,null,null,null,"3+",2.75]
["c",null,{"$f":"IF(B10=\"\",,VLOOKUP(B10,'Punkte-Note'!$A$2:$B$178,2,FALSE))","v":0},"",null,null,null,null,"3",3]
["a",null,{"$f":"IF(B11=\"\",,VLOOKUP(B11,'Punkte-Note'!$A$2:$B$178,2,FALSE))","v":0},"",null,null,null,null,"3-",2.25]
["b",null,{"$f":"IF(B12=\"\",,VLOOKUP(B12,'Punkte-Note'!$A$2:$B$178,2,FALSE))","v":0},"",null,null,null,null,"3/4",3.5]
["c",null,{"$f":"IF(B13=\"\",,VLOOKUP(B13,'Punkte-Note'!$A$2:$B$178,2,FALSE))","v":0},"",null,null,null,null,"4+",3.75]
["a",null,{"$f":"IF(B14=\"\",,VLOOKUP(B14,'Punkte-Note'!$A$2:$B$178,2,FALSE))","v":0},"",null,null,null,null,"4",4]
["b",null,{"$f":"IF(B15=\"\",,VLOOKUP(B15,'Punkte-Note'!$A$2:$B$178,2,FALSE))","v":0},"",null,null,null,null,"4-",4.25]
["c",null,{"$f":"IF(B16=\"\",,VLOOKUP(B16,'Punkte-Note'!$A$2:$B$178,2,FALSE))","v":0},"",null,null,null,null,"4/5",4.5]
["a",null,{"$f":"IF(B17=\"\",,VLOOKUP(B17,'Punkte-Note'!$A$2:$B$178,2,FALSE))","v":0},"",null,null,null,null,"5+",4.75]
["b",null,{"$f":"IF(B18=\"\",,VLOOKUP(B18,'Punkte-Note'!$A$2:$B$178,2,FALSE))","v":0},"",null,null,null,null,"5",5]
["c",null,{"$f":"IF(B19=\"\",,VLOOKUP(B19,'Punkte-Note'!$A$2:$B$178,2,FALSE))","v":0},"",null,null,null,null,"5-",5.25]
["a",null,{"$f":"IF(B20=\"\",,VLOOKUP(B20,'Punkte-Note'!$A$2:$B$178,2,FALSE))","v":0},"",null,null,null,null,"5/6",5.5]
["b",null,{"$f":"IF(B21=\"\",,VLOOKUP(B21,'Punkte-Note'!$A$2:$B$178,2,FALSE))","v":0},"",null,null,null,null,"6+",5.75]
["c",null,{"$f":"IF(B22=\"\",,VLOOKUP(B22,'Punkte-Note'!$A$2:$B$178,2,FALSE))","v":0},"",null,null,null,null,"6",6]
["a",null,{"$f":"IF(B23=\"\",,VLOOKUP(B23,'Punkte-Note'!$A$2:$B$178,2,FALSE))","v":0},""]
["b",null,{"$f":"IF(B24=\"\",,VLOOKUP(B24,'Punkte-Note'!$A$2:$B$178,2,FALSE))","v":0},""]
["c",null,{"$f":"IF(B25=\"\",,VLOOKUP(B25,'Punkte-Note'!$A$2:$B$178,2,FALSE))","v":0},""]
["a",null,{"$f":"IF(B26=\"\",,VLOOKUP(B26,'Punkte-Note'!$A$2:$B$178,2,FALSE))","v":0},""]
["b",null,{"$f":"IF(B27=\"\",,VLOOKUP(B27,'Punkte-Note'!$A$2:$B$178,2,FALSE))","v":0},""]
["c",null,{"$f":"IF(B28=\"\",,VLOOKUP(B28,'Punkte-Note'!$A$2:$B$178,2,FALSE))","v":0},""]
["a",null,{"$f":"IF(B29=\"\",,VLOOKUP(B29,'Punkte-Note'!$A$2:$B$178,2,FALSE))","v":0},""]
["b",null,{"$f":"IF(B30=\"\",,VLOOKUP(B30,'Punkte-Note'!$A$2:$B$178,2,FALSE))","v":0},""]
["c",null,{"$f":"IF(B31=\"\",,VLOOKUP(B31,'Punkte-Note'!$A$2:$B$178,2,FALSE))","v":0},""]
["a",null,{"$f":"IF(B32=\"\",,VLOOKUP(B32,'Punkte-Note'!$A$2:$B$178,2,FALSE))","v":0},""]
["b",null,{"$f":"IF(B33=\"\",,VLOOKUP(B33,'Punkte-Note'!$A$2:$B$178,2,FALSE))","v":0},""]
["c",null,{"$f":"IF(B34=\"\",,VLOOKUP(B34,'Punkte-Note'!$A$2:$B$178,2,FALSE))","v":0},""]
["a",null,{"$f":"IF(B35=\"\",,VLOOKUP(B35,'Punkte-Note'!$A$2:$B$178,2,FALSE))","v":0},""]
["b",null,{"$f":"IF(B36=\"\",,VLOOKUP(B36,'Punkte-Note'!$A$2:$B$178,2,FALSE))","v":0},""]
["c",null,{"$f":"IF(B37=\"\",,VLOOKUP(B37,'Punkte-Note'!$A$2:$B$178,2,FALSE))","v":0},""]